BEGIN:VCALENDAR
VERSION:2.0
PRODID:-//Freo Forum - ECPv6.15.20//NONSGML v1.0//EN
CALSCALE:GREGORIAN
METHOD:PUBLISH
X-WR-CALNAME:Freo Forum
X-ORIGINAL-URL:https://freo-forum.de
X-WR-CALDESC:Veranstaltungen für Freo Forum
REFRESH-INTERVAL;VALUE=DURATION:PT1H
X-Robots-Tag:noindex
X-PUBLISHED-TTL:PT1H
BEGIN:VTIMEZONE
TZID:Europe/Berlin
BEGIN:DAYLIGHT
TZOFFSETFROM:+0100
TZOFFSETTO:+0200
TZNAME:CEST
DTSTART:20230326T010000
END:DAYLIGHT
BEGIN:STANDARD
TZOFFSETFROM:+0200
TZOFFSETTO:+0100
TZNAME:CET
DTSTART:20231029T010000
END:STANDARD
BEGIN:DAYLIGHT
TZOFFSETFROM:+0100
TZOFFSETTO:+0200
TZNAME:CEST
DTSTART:20240331T010000
END:DAYLIGHT
BEGIN:STANDARD
TZOFFSETFROM:+0200
TZOFFSETTO:+0100
TZNAME:CET
DTSTART:20241027T010000
END:STANDARD
BEGIN:DAYLIGHT
TZOFFSETFROM:+0100
TZOFFSETTO:+0200
TZNAME:CEST
DTSTART:20250330T010000
END:DAYLIGHT
BEGIN:STANDARD
TZOFFSETFROM:+0200
TZOFFSETTO:+0100
TZNAME:CET
DTSTART:20251026T010000
END:STANDARD
END:VTIMEZONE
BEGIN:VEVENT
DTSTART;VALUE=DATE:20240605
DTEND;VALUE=DATE:20240606
DTSTAMP:20260421T154857
CREATED:20240502T094428Z
LAST-MODIFIED:20240513T084944Z
UID:740-1717545600-1717631999@freo-forum.de
SUMMARY:The Great Learning: Netzwerktreffen zur Zukunft der Ensemble- und Bandförderung
DESCRIPTION:Zur Veranstaltung
URL:https://freo-forum.de/kalendereintrag/the-great-learning/
LOCATION:silent green Kulturquartier\, Berlin\, Gerichtstraße 35\, Berlin\, 13347
CATEGORIES:Netzwerktreffen
END:VEVENT
BEGIN:VEVENT
DTSTART;TZID=Europe/Berlin:20240612T100000
DTEND;TZID=Europe/Berlin:20240612T120000
DTSTAMP:20260421T154857
CREATED:20240703T064719Z
LAST-MODIFIED:20240703T064821Z
UID:805-1718186400-1718193600@freo-forum.de
SUMMARY:Schreibwerkstatt: Texte für die Öffentlichkeitsarbeit (1)
DESCRIPTION:Zur Schreibwerkstatt
URL:https://freo-forum.de/kalendereintrag/schreibwerkstatt-texte-fuer-die-oeffentlichkeitsarbeit-1/
LOCATION:Online
CATEGORIES:Workshop
END:VEVENT
BEGIN:VEVENT
DTSTART;TZID=Europe/Berlin:20240619T100000
DTEND;TZID=Europe/Berlin:20240619T120000
DTSTAMP:20260421T154857
CREATED:20240703T065208Z
LAST-MODIFIED:20240703T065208Z
UID:808-1718791200-1718798400@freo-forum.de
SUMMARY:Schreibwerkstatt: Texte für die Öffentlichkeitsarbeit (2)
DESCRIPTION:Zur Schreibwerkstatt
URL:https://freo-forum.de/kalendereintrag/schreibwerkstatt-texte-fuer-die-oeffentlichkeitsarbeit-2/
LOCATION:Online
CATEGORIES:Workshop
END:VEVENT
END:VCALENDAR