BEGIN:VCALENDAR
VERSION:2.0
PRODID:-//Freo Forum - ECPv6.15.20//NONSGML v1.0//EN
CALSCALE:GREGORIAN
METHOD:PUBLISH
X-ORIGINAL-URL:https://freo-forum.de
X-WR-CALDESC:Veranstaltungen für Freo Forum
REFRESH-INTERVAL;VALUE=DURATION:PT1H
X-Robots-Tag:noindex
X-PUBLISHED-TTL:PT1H
BEGIN:VTIMEZONE
TZID:Europe/Berlin
BEGIN:DAYLIGHT
TZOFFSETFROM:+0100
TZOFFSETTO:+0200
TZNAME:CEST
DTSTART:20220327T010000
END:DAYLIGHT
BEGIN:STANDARD
TZOFFSETFROM:+0200
TZOFFSETTO:+0100
TZNAME:CET
DTSTART:20221030T010000
END:STANDARD
BEGIN:DAYLIGHT
TZOFFSETFROM:+0100
TZOFFSETTO:+0200
TZNAME:CEST
DTSTART:20230326T010000
END:DAYLIGHT
BEGIN:STANDARD
TZOFFSETFROM:+0200
TZOFFSETTO:+0100
TZNAME:CET
DTSTART:20231029T010000
END:STANDARD
BEGIN:DAYLIGHT
TZOFFSETFROM:+0100
TZOFFSETTO:+0200
TZNAME:CEST
DTSTART:20240331T010000
END:DAYLIGHT
BEGIN:STANDARD
TZOFFSETFROM:+0200
TZOFFSETTO:+0100
TZNAME:CET
DTSTART:20241027T010000
END:STANDARD
END:VTIMEZONE
BEGIN:VEVENT
DTSTART;TZID=Europe/Berlin:20231107T100000
DTEND;TZID=Europe/Berlin:20231107T113000
DTSTAMP:20260424T115811
CREATED:20231102T073601Z
LAST-MODIFIED:20231106T072834Z
UID:390-1699351200-1699356600@freo-forum.de
SUMMARY:Workshop-Reihe Förderung: Teil 1 "Grundlagen"
DESCRIPTION:Zum Workshop
URL:https://freo-forum.de/kalendereintrag/workshop-foerderung-teil-1/
LOCATION:Online
CATEGORIES:Workshop
END:VEVENT
BEGIN:VEVENT
DTSTART;TZID=Europe/Berlin:20231121T100000
DTEND;TZID=Europe/Berlin:20231121T113000
DTSTAMP:20260424T115811
CREATED:20231102T074243Z
LAST-MODIFIED:20231102T074725Z
UID:396-1700560800-1700566200@freo-forum.de
SUMMARY:Workshop-Reihe Förderung: Teil 2 "Anträge erfolgreich schreiben"
DESCRIPTION:Zum Workshop
URL:https://freo-forum.de/kalendereintrag/workshop-reihe-foerderung-teil-2-antraege-erfolgreich-schreiben/
LOCATION:Online
CATEGORIES:Workshop
END:VEVENT
END:VCALENDAR