BEGIN:VCALENDAR
VERSION:2.0
PRODID:-//Freo Forum - ECPv6.15.20//NONSGML v1.0//EN
CALSCALE:GREGORIAN
METHOD:PUBLISH
X-WR-CALNAME:Freo Forum
X-ORIGINAL-URL:https://freo-forum.de
X-WR-CALDESC:Veranstaltungen für Freo Forum
REFRESH-INTERVAL;VALUE=DURATION:PT1H
X-Robots-Tag:noindex
X-PUBLISHED-TTL:PT1H
BEGIN:VTIMEZONE
TZID:Europe/Berlin
BEGIN:DAYLIGHT
TZOFFSETFROM:+0100
TZOFFSETTO:+0200
TZNAME:CEST
DTSTART:20230326T010000
END:DAYLIGHT
BEGIN:STANDARD
TZOFFSETFROM:+0200
TZOFFSETTO:+0100
TZNAME:CET
DTSTART:20231029T010000
END:STANDARD
BEGIN:DAYLIGHT
TZOFFSETFROM:+0100
TZOFFSETTO:+0200
TZNAME:CEST
DTSTART:20240331T010000
END:DAYLIGHT
BEGIN:STANDARD
TZOFFSETFROM:+0200
TZOFFSETTO:+0100
TZNAME:CET
DTSTART:20241027T010000
END:STANDARD
BEGIN:DAYLIGHT
TZOFFSETFROM:+0100
TZOFFSETTO:+0200
TZNAME:CEST
DTSTART:20250330T010000
END:DAYLIGHT
BEGIN:STANDARD
TZOFFSETFROM:+0200
TZOFFSETTO:+0100
TZNAME:CET
DTSTART:20251026T010000
END:STANDARD
END:VTIMEZONE
BEGIN:VEVENT
DTSTART;TZID=Europe/Berlin:20240328T100000
DTEND;TZID=Europe/Berlin:20240328T120000
DTSTAMP:20260422T011259
CREATED:20240312T130108Z
LAST-MODIFIED:20240312T130108Z
UID:638-1711620000-1711627200@freo-forum.de
SUMMARY:Grundlagen der politischen Arbeit für Ensemblevertreter*innen: Der Werkzeugkasten: Was es gibt. Was wir brauchen.
DESCRIPTION:Zum Workshop
URL:https://freo-forum.de/kalendereintrag/grundlagen-der-politischen-arbeit-fuer-ensemblevertreterinnen-der-werkzeugkasten-was-es-gibt-was-wir-brauchen/
LOCATION:Online
CATEGORIES:Workshop
END:VEVENT
END:VCALENDAR